BEGIN:VCALENDAR
VERSION:2.0
PRODID:-//hacksw/handcal//NONSGML v1.0//EN
BEGIN:VEVENT
SUMMARY:Anim'athle Ligueil
UID:5eb08125-467a-4a4e-aac1-7a7367252ed7
DTSTART:20260424T220000Z
DTEND:20260425T220000Z
LOCATION:Localisation   
CATEGORIES:Sportif
STATUS:
URL;VALUE=URI:https://www.adc-loches.net/evenements/2026/04/25/animathle-ligueil-2444851
END:VEVENT
END:VCALENDAR
