BEGIN:VCALENDAR
VERSION:2.0
PRODID:-//hacksw/handcal//NONSGML v1.0//EN
BEGIN:VEVENT
SUMMARY:Championnat de France d'Ekkiden
UID:fd76c05a-b731-4ef5-a714-2eade797c135
DTSTART:20260418T220000Z
DTEND:20260419T220000Z
LOCATION:Localisation   
CATEGORIES:Sportif
STATUS:
URL;VALUE=URI:https://www.adc-loches.net/evenements/2026/04/19/championnat-de-france-dekkiden-2442881
END:VEVENT
END:VCALENDAR
