BEGIN:VCALENDAR
VERSION:2.0
PRODID:-//hacksw/handcal//NONSGML v1.0//EN
BEGIN:VEVENT
SUMMARY:Course forest
UID:ccdbe009-57ae-46a5-821a-de4a1670c04e
DTSTART:20260417T220000Z
DTEND:20260418T220000Z
LOCATION:Localisation   
CATEGORIES:Sportif
STATUS:
URL;VALUE=URI:https://www.adc-loches.net/evenements/2026/04/18/course-forest-2443143
END:VEVENT
END:VCALENDAR
