BEGIN:VCALENDAR
VERSION:2.0
PRODID:-//hacksw/handcal//NONSGML v1.0//EN
BEGIN:VEVENT
SUMMARY:Championnats departementaux de demi fond et meeting de Chateau-Renault
UID:e9d0f082-b634-4b10-8cb9-15e53d218d69
DTSTART:20260416T220000Z
DTEND:20260417T220000Z
LOCATION:Localisation   
CATEGORIES:Sportif
STATUS:
URL;VALUE=URI:https://www.adc-loches.net/evenements/2026/04/17/championnats-departementaux-de-demi-fond-et-meeting-de-chateau-renault-2442788
END:VEVENT
END:VCALENDAR
